BEGIN:VCALENDAR
VERSION:2.0
PRODID:-//Southeast Watershed Alliance - ECPv6.15.20//NONSGML v1.0//EN
CALSCALE:GREGORIAN
METHOD:PUBLISH
X-WR-CALNAME:Southeast Watershed Alliance
X-ORIGINAL-URL:https://southeastwatershedalliance.org/wp
X-WR-CALDESC:Events for Southeast Watershed Alliance
REFRESH-INTERVAL;VALUE=DURATION:PT1H
X-Robots-Tag:noindex
X-PUBLISHED-TTL:PT1H
BEGIN:VTIMEZONE
TZID:America/New_York
BEGIN:DAYLIGHT
TZOFFSETFROM:-0500
TZOFFSETTO:-0400
TZNAME:EDT
DTSTART:20180311T070000
END:DAYLIGHT
BEGIN:STANDARD
TZOFFSETFROM:-0400
TZOFFSETTO:-0500
TZNAME:EST
DTSTART:20181104T060000
END:STANDARD
BEGIN:DAYLIGHT
TZOFFSETFROM:-0500
TZOFFSETTO:-0400
TZNAME:EDT
DTSTART:20190310T070000
END:DAYLIGHT
BEGIN:STANDARD
TZOFFSETFROM:-0400
TZOFFSETTO:-0500
TZNAME:EST
DTSTART:20191103T060000
END:STANDARD
BEGIN:DAYLIGHT
TZOFFSETFROM:-0500
TZOFFSETTO:-0400
TZNAME:EDT
DTSTART:20200308T070000
END:DAYLIGHT
BEGIN:STANDARD
TZOFFSETFROM:-0400
TZOFFSETTO:-0500
TZNAME:EST
DTSTART:20201101T060000
END:STANDARD
END:VTIMEZONE
BEGIN:VTIMEZONE
TZID:UTC
BEGIN:STANDARD
TZOFFSETFROM:+0000
TZOFFSETTO:+0000
TZNAME:UTC
DTSTART:20160101T000000
END:STANDARD
END:VTIMEZONE
BEGIN:VEVENT
DTSTART;TZID=America/New_York:20190918T160000
DTEND;TZID=America/New_York:20190918T180000
DTSTAMP:20260422T073918
CREATED:20190917T003007Z
LAST-MODIFIED:20190917T003007Z
UID:29400-1568822400-1568829600@southeastwatershedalliance.org
SUMMARY:Board of Directors Meeting
DESCRIPTION:BOD meetings are held on the third Wednesday of each month from 4-6 p.m. at 100 International Drive\, Suite 360 in Portsmouth.
URL:https://southeastwatershedalliance.org/wp/event/board-of-directors-meeting-6/
END:VEVENT
BEGIN:VEVENT
DTSTART;TZID=America/New_York:20190918T130000
DTEND;TZID=America/New_York:20190918T150000
DTSTAMP:20260422T073918
CREATED:20190917T003357Z
LAST-MODIFIED:20190917T003357Z
UID:29403-1568811600-1568818800@southeastwatershedalliance.org
SUMMARY:SepticSmart Week Webinar
DESCRIPTION:SepticSmart week webinar focusing on the perspectives of state and county health and environmental departments\, highlighting their SepticSmart Week outreach efforts and providing examples of strategies they’ve used to overcome local challenges. \nRegister for the webinar here 
URL:https://southeastwatershedalliance.org/wp/event/septicsmart-week-webinar/
END:VEVENT
BEGIN:VEVENT
DTSTART;TZID=America/New_York:20190821T160000
DTEND;TZID=America/New_York:20190821T180000
DTSTAMP:20260422T073918
CREATED:20190604T213104Z
LAST-MODIFIED:20190604T213104Z
UID:29386-1566403200-1566410400@southeastwatershedalliance.org
SUMMARY:Board of Directors Meeting
DESCRIPTION:BOD meetings are held on the third Wednesday of each month from 4-6 p.m. at 100 International Drive\, Suite 360 in Portsmouth.
URL:https://southeastwatershedalliance.org/wp/event/board-of-directors-meeting-5/
END:VEVENT
BEGIN:VEVENT
DTSTART;TZID=America/New_York:20190717T160000
DTEND;TZID=America/New_York:20190717T180000
DTSTAMP:20260422T073918
CREATED:20190604T212721Z
LAST-MODIFIED:20190604T212721Z
UID:29384-1563379200-1563386400@southeastwatershedalliance.org
SUMMARY:Board of Directors Meeting
DESCRIPTION:BOD meetings are held on the third Wednesday of each month from 4-6 p.m. at 100 International Drive\, Suite 360 in Portsmouth.
URL:https://southeastwatershedalliance.org/wp/event/board-of-directors-meeting-4/
END:VEVENT
BEGIN:VEVENT
DTSTART;TZID=America/New_York:20190619T160000
DTEND;TZID=America/New_York:20190619T180000
DTSTAMP:20260422T073918
CREATED:20190604T212527Z
LAST-MODIFIED:20190604T212919Z
UID:29382-1560960000-1560967200@southeastwatershedalliance.org
SUMMARY:Board of Directors Meeting
DESCRIPTION:BOD meetings are held on the third Wednesday of each month from 4-6 p.m. at 100 International Drive\, Suite 360 in Portsmouth.
URL:https://southeastwatershedalliance.org/wp/event/board-of-directors-meeting-3/
END:VEVENT
BEGIN:VEVENT
DTSTART;TZID=America/New_York:20190410T183000
DTEND;TZID=America/New_York:20190410T203000
DTSTAMP:20260422T073918
CREATED:20190322T000846Z
LAST-MODIFIED:20190322T000846Z
UID:29373-1554921000-1554928200@southeastwatershedalliance.org
SUMMARY:SWA Quarterly Meeting
DESCRIPTION:OPTIMIZING SWA’S MODEL STORMWATER REGULATION\nFOR ADMINISTRATIVE EASE AND EFFECTIVENESS   \n The Model Stormwater Regulation protects surface water quality by requiring measures to infiltrate stormwater instead of increasing runoff from small land development sites. \nIt is actively being adopted by at least 12 municipalities in the Coastal Watershed. \nThis roundtable discussion is an opportunity to share experiences in implementing the regulation and improving it for future users.
URL:https://southeastwatershedalliance.org/wp/event/swa-quarterly-meeting-4/
LOCATION:Regional Economic Development Center\, 57 Main Street\, Raymond\, NH\, 03077\, United States
END:VEVENT
BEGIN:VEVENT
DTSTART;TZID=UTC:20180516T160000
DTEND;TZID=UTC:20180516T180000
DTSTAMP:20260422T073918
CREATED:20180322T233356Z
LAST-MODIFIED:20180322T233408Z
UID:29313-1526486400-1526493600@southeastwatershedalliance.org
SUMMARY:Board of Directors Meeting
DESCRIPTION:BOD meetings are held on the third Wednesday of each month from 4-6 p.m. at Hoyle\, Tanner & Associates\, 100 International Drive\, Suite 360 in Portsmouth.
URL:https://southeastwatershedalliance.org/wp/event/board-of-directors-meeting-2/
LOCATION:Hoyle\, Tanner & Associates – PEASE Tradeport Office\, 100 International Drive\, Suite 360\, Portsmouth\, NH\, 03801\, United States
ATTACH;FMTTYPE=image/jpeg:https://southeastwatershedalliance.org/wp/wp-content/uploads/2017/02/SE-Watershed-logo-RGB-wide.jpg
END:VEVENT
BEGIN:VEVENT
DTSTART;VALUE=DATE:20180507
DTEND;VALUE=DATE:20180509
DTSTAMP:20260422T073918
CREATED:20171230T001451Z
LAST-MODIFIED:20171230T001727Z
UID:29293-1525651200-1525823999@southeastwatershedalliance.org
SUMMARY:Stormwater Conference & Exhibit
DESCRIPTION:May 7\, 2018 – May 8\, 2018\nall-day\n\n\n\n\n\n\nBrought to you by https://www.newea.org/\n\nWHERE: Sheraton Hotel\, Portsmouth\, NH 03801\n\nFor more information:\n\n\n CONFERENCES\n\n\n\nStormwater Conference
URL:https://southeastwatershedalliance.org/wp/event/stormwater-conference-exhibit/
LOCATION:sheraton portsmouth
END:VEVENT
BEGIN:VEVENT
DTSTART;TZID=UTC:20180418T160000
DTEND;TZID=UTC:20180418T180000
DTSTAMP:20260422T073918
CREATED:20180322T191037Z
LAST-MODIFIED:20180322T233224Z
UID:29311-1524067200-1524074400@southeastwatershedalliance.org
SUMMARY:Board of Directors Meeting
DESCRIPTION:BOD meetings are held on the third Wednesday of each month from 4-6 p.m. at Hoyle\, Tanner & Associates\, 100 International Drive\, Suite 360 in Portsmouth.
URL:https://southeastwatershedalliance.org/wp/event/board-of-directors-meeting/
LOCATION:Hoyle\, Tanner & Associates – PEASE Tradeport Office\, 100 International Drive\, Suite 360\, Portsmouth\, NH\, 03801\, United States
ATTACH;FMTTYPE=image/jpeg:https://southeastwatershedalliance.org/wp/wp-content/uploads/2017/02/SE-Watershed-logo-RGB-wide.jpg
END:VEVENT
BEGIN:VEVENT
DTSTART;TZID=UTC:20180328T183000
DTEND;TZID=UTC:20180328T203000
DTSTAMP:20260422T073918
CREATED:20180323T213019Z
LAST-MODIFIED:20180323T220028Z
UID:29315-1522261800-1522269000@southeastwatershedalliance.org
SUMMARY:SWA QUARTERLY MEETING
DESCRIPTION:March 28th from 6:30-8:30 p.m. \nRoom 305 of the McConnell Center at 32 St. Thomas Street in Dover\, NH \nJulie LaBranch and Rob Roseen will present on the Exeter Resilience Project. \nFor more information on climate resiliency projects in coastal NH\, see NH Coastal Adaptation Workgroup’s webpage at: http://www.nhcaw.org/what/projects/project-portal/ \n 
URL:https://southeastwatershedalliance.org/wp/event/swa-quarterly-meeting-3/
LOCATION:McConnell Center – Room 305\, 61 Locust St.\, Dover\, NH\, 03820\, United States
ATTACH;FMTTYPE=image/jpeg:https://southeastwatershedalliance.org/wp/wp-content/uploads/2017/02/SE-Watershed-logo-RGB-wide.jpg
END:VEVENT
BEGIN:VEVENT
DTSTART;TZID=UTC:20171018T160000
DTEND;TZID=UTC:20171018T180000
DTSTAMP:20260422T073918
CREATED:20171017T004230Z
LAST-MODIFIED:20171017T004230Z
UID:29279-1508342400-1508349600@southeastwatershedalliance.org
SUMMARY:SWA Board of Director's Meeting
DESCRIPTION:
URL:https://southeastwatershedalliance.org/wp/event/swa-board-directors-meeting-3/
LOCATION:Hoyle\, Tanner & Associates – PEASE Tradeport Office\, 100 International Drive\, Suite 360\, Portsmouth\, NH\, 03801\, United States
END:VEVENT
BEGIN:VEVENT
DTSTART;TZID=UTC:20170927T183000
DTEND;TZID=UTC:20170927T210000
DTSTAMP:20260422T073918
CREATED:20170925T214705Z
LAST-MODIFIED:20170925T214705Z
UID:29232-1506537000-1506546000@southeastwatershedalliance.org
SUMMARY:SWA Quarterly Meeting
DESCRIPTION:Presentation/Discussion: Numeric Model Predictions of Groundwater Rise Due to Climate Change in New Hampshire by Dr. Jennifer Jacobs of UNH
URL:https://southeastwatershedalliance.org/wp/event/swa-quarterly-meeting-27aug2017/
LOCATION:McConnell Center – Room 305\, 61 Locust St.\, Dover\, NH\, 03820\, United States
END:VEVENT
BEGIN:VEVENT
DTSTART;TZID=UTC:20170927T183000
DTEND;TZID=UTC:20170927T210000
DTSTAMP:20260422T073918
CREATED:20170828T203034Z
LAST-MODIFIED:20170925T214943Z
UID:29225-1506537000-1506546000@southeastwatershedalliance.org
SUMMARY:SWA Quarterly Meeting
DESCRIPTION:
URL:https://southeastwatershedalliance.org/wp/event/swa-quarterly-meeting-2/
LOCATION:McConnell Center – Room 305\, 61 Locust St.\, Dover\, NH\, 03820\, United States
END:VEVENT
BEGIN:VEVENT
DTSTART;TZID=UTC:20170712T160000
DTEND;TZID=UTC:20170712T180000
DTSTAMP:20260422T073918
CREATED:20170630T212313Z
LAST-MODIFIED:20170630T212313Z
UID:29222-1499875200-1499882400@southeastwatershedalliance.org
SUMMARY:SWA Board of Directors Meeting
DESCRIPTION:
URL:https://southeastwatershedalliance.org/wp/event/swa-board-directors-meeting-2/
LOCATION:Hoyle\, Tanner & Associates – PEASE Tradeport Office\, 100 International Drive\, Suite 360\, Portsmouth\, NH\, 03801\, United States
END:VEVENT
BEGIN:VEVENT
DTSTART;TZID=UTC:20170628T183000
DTEND;TZID=UTC:20170628T203000
DTSTAMP:20260422T073918
CREATED:20170531T210155Z
LAST-MODIFIED:20170613T223538Z
UID:29183-1498674600-1498681800@southeastwatershedalliance.org
SUMMARY:SWA Quarterly Meeting
DESCRIPTION:
URL:https://southeastwatershedalliance.org/wp/event/swa-quarterly-meeting/
LOCATION:Northwood Congregational Church\, 881 1st New Hampshire Turnpike\, Northwood\, New Hampshire\, 03261
END:VEVENT
BEGIN:VEVENT
DTSTART;TZID=UTC:20170628T153000
DTEND;TZID=UTC:20170628T173000
DTSTAMP:20260422T073918
CREATED:20170528T193059Z
LAST-MODIFIED:20170616T163648Z
UID:29187-1498663800-1498671000@southeastwatershedalliance.org
SUMMARY:Stormwater Management in Your Community - Municipal Board Empowerment Series Workshop #3
DESCRIPTION:Featuring April Talon\, Town Engineer\, Durham\, NH and a Town Official from Newfields\, NH. \nThis is a free workshop and a $5 donation is suggested. You must register for this event by emailing Steve Miller at: steve.miller@wildlife.nh.gov \n 
URL:https://southeastwatershedalliance.org/wp/event/stormwater-management-community-municipal-board-empowerment-series-workshop-3/
LOCATION:Newmarket Town Hall\, 186 Main St.\, Newmarket\, NH\, United States
END:VEVENT
BEGIN:VEVENT
DTSTART;TZID=UTC:20170614T160000
DTEND;TZID=UTC:20170614T180000
DTSTAMP:20260422T073918
CREATED:20170531T205700Z
LAST-MODIFIED:20170531T205700Z
UID:29180-1497456000-1497463200@southeastwatershedalliance.org
SUMMARY:SWA Board of Director's Meeting
DESCRIPTION:
URL:https://southeastwatershedalliance.org/wp/event/swa-board-directors-meeting/
LOCATION:Hoyle\, Tanner & Associates – PEASE Tradeport Office\, 100 International Drive\, Suite 360\, Portsmouth\, NH\, 03801\, United States
END:VEVENT
BEGIN:VEVENT
DTSTART;TZID=UTC:20170517T080000
DTEND;TZID=UTC:20170517T170000
DTSTAMP:20260422T073918
CREATED:20170517T175358Z
LAST-MODIFIED:20170517T182009Z
UID:29163-1495008000-1495040400@southeastwatershedalliance.org
SUMMARY:Board of Directors
DESCRIPTION:Board of Directors meeting\, 4-6PM \n5/17/2017
URL:https://southeastwatershedalliance.org/wp/event/board-of-directors/
END:VEVENT
END:VCALENDAR